BEGIN:VCALENDAR
VERSION:2.0
PRODID:-//hacksw/handcal//NONSGML v1.0//EN
BEGIN:VEVENT
SUMMARY:Entrainement Equipe 1
UID:1ebf251f-4348-4b63-b67d-9e647c56248a
DTSTART:20260225T180000Z
DTEND:20260225T200000Z
LOCATION:Localisation   
CATEGORIES:Entrainement
STATUS:
DESCRIPTION:Entrainement tactique pour l'equipe 1 ce soir au stade
 Municipal. 
URL;VALUE=URI:https://fcbrachy.sportsregions.fr/evenements/2026/02/25/entrainement-equipe-1-2420525
END:VEVENT
END:VCALENDAR
