BEGIN:VCALENDAR
VERSION:2.0
PRODID:-//hacksw/handcal//NONSGML v1.0//EN
BEGIN:VEVENT
SUMMARY:Match
UID:4ae5800d-6118-49b3-97e5-16bdf9ff480d
DTSTART:20260225T090000Z
DTEND:20260225T130000Z
LOCATION:Localisation   
CATEGORIES:Sportif
STATUS:
DESCRIPTION:Belle victoire de notre equipe ! Rendez-vous samedi pour
 le prochain match. 
URL;VALUE=URI:https://fcbrachy.sportsregions.fr/evenements/2026/02/25/match-2420524
END:VEVENT
BEGIN:VEVENT
SUMMARY:Tournoi regional
UID:eb86d398-6327-41ab-a3a4-3cb82a5fc264
DTSTART:20260225T090000Z
DTEND:20260225T130000Z
LOCATION:Localisation   
CATEGORIES:Sportif
STATUS:
DESCRIPTION:<p>Le tournoi regional organise par le club aura lieu sur
 le grand stade de la ville a partir de 14h.<br> Trois de nos equipes
 seront en lice dans la competition.
 </p><p>Les prix seront remis en
 soiree.</p>
URL;VALUE=URI:https://fcbrachy.sportsregions.fr/evenements/2026/02/25/tournoi-regional-2420523
END:VEVENT
BEGIN:VEVENT
SUMMARY:Entrainement Equipe 1
UID:1ebf251f-4348-4b63-b67d-9e647c56248a
DTSTART:20260225T180000Z
DTEND:20260225T200000Z
LOCATION:Localisation   
CATEGORIES:Entrainement
STATUS:
DESCRIPTION:Entrainement tactique pour l'equipe 1 ce soir au stade
 Municipal. 
URL;VALUE=URI:https://fcbrachy.sportsregions.fr/evenements/2026/02/25/entrainement-equipe-1-2420525
END:VEVENT
END:VCALENDAR
